BEGIN:VCALENDAR
VERSION:2.0
PRODID:-//USGovBid - ECPv6.15.17//NONSGML v1.0//EN
CALSCALE:GREGORIAN
METHOD:PUBLISH
X-ORIGINAL-URL:https://www.usgovbid.com
X-WR-CALDESC:Events for USGovBid
REFRESH-INTERVAL;VALUE=DURATION:PT1H
X-Robots-Tag:noindex
X-PUBLISHED-TTL:PT1H
BEGIN:VTIMEZONE
TZID:America/New_York
BEGIN:DAYLIGHT
TZOFFSETFROM:-0500
TZOFFSETTO:-0400
TZNAME:EDT
DTSTART:20100314T070000
END:DAYLIGHT
BEGIN:STANDARD
TZOFFSETFROM:-0400
TZOFFSETTO:-0500
TZNAME:EST
DTSTART:20101107T060000
END:STANDARD
BEGIN:DAYLIGHT
TZOFFSETFROM:-0500
TZOFFSETTO:-0400
TZNAME:EDT
DTSTART:20110313T070000
END:DAYLIGHT
BEGIN:STANDARD
TZOFFSETFROM:-0400
TZOFFSETTO:-0500
TZNAME:EST
DTSTART:20111106T060000
END:STANDARD
BEGIN:DAYLIGHT
TZOFFSETFROM:-0500
TZOFFSETTO:-0400
TZNAME:EDT
DTSTART:20120311T070000
END:DAYLIGHT
BEGIN:STANDARD
TZOFFSETFROM:-0400
TZOFFSETTO:-0500
TZNAME:EST
DTSTART:20121104T060000
END:STANDARD
BEGIN:DAYLIGHT
TZOFFSETFROM:-0500
TZOFFSETTO:-0400
TZNAME:EDT
DTSTART:20130310T070000
END:DAYLIGHT
BEGIN:STANDARD
TZOFFSETFROM:-0400
TZOFFSETTO:-0500
TZNAME:EST
DTSTART:20131103T060000
END:STANDARD
BEGIN:DAYLIGHT
TZOFFSETFROM:-0500
TZOFFSETTO:-0400
TZNAME:EDT
DTSTART:20140309T070000
END:DAYLIGHT
BEGIN:STANDARD
TZOFFSETFROM:-0400
TZOFFSETTO:-0500
TZNAME:EST
DTSTART:20141102T060000
END:STANDARD
BEGIN:DAYLIGHT
TZOFFSETFROM:-0500
TZOFFSETTO:-0400
TZNAME:EDT
DTSTART:20150308T070000
END:DAYLIGHT
BEGIN:STANDARD
TZOFFSETFROM:-0400
TZOFFSETTO:-0500
TZNAME:EST
DTSTART:20151101T060000
END:STANDARD
BEGIN:DAYLIGHT
TZOFFSETFROM:-0500
TZOFFSETTO:-0400
TZNAME:EDT
DTSTART:20160313T070000
END:DAYLIGHT
BEGIN:STANDARD
TZOFFSETFROM:-0400
TZOFFSETTO:-0500
TZNAME:EST
DTSTART:20161106T060000
END:STANDARD
BEGIN:DAYLIGHT
TZOFFSETFROM:-0500
TZOFFSETTO:-0400
TZNAME:EDT
DTSTART:20170312T070000
END:DAYLIGHT
BEGIN:STANDARD
TZOFFSETFROM:-0400
TZOFFSETTO:-0500
TZNAME:EST
DTSTART:20171105T060000
END:STANDARD
BEGIN:DAYLIGHT
TZOFFSETFROM:-0500
TZOFFSETTO:-0400
TZNAME:EDT
DTSTART:20180311T070000
END:DAYLIGHT
BEGIN:STANDARD
TZOFFSETFROM:-0400
TZOFFSETTO:-0500
TZNAME:EST
DTSTART:20181104T060000
END:STANDARD
BEGIN:DAYLIGHT
TZOFFSETFROM:-0500
TZOFFSETTO:-0400
TZNAME:EDT
DTSTART:20190310T070000
END:DAYLIGHT
BEGIN:STANDARD
TZOFFSETFROM:-0400
TZOFFSETTO:-0500
TZNAME:EST
DTSTART:20191103T060000
END:STANDARD
BEGIN:DAYLIGHT
TZOFFSETFROM:-0500
TZOFFSETTO:-0400
TZNAME:EDT
DTSTART:20200308T070000
END:DAYLIGHT
BEGIN:STANDARD
TZOFFSETFROM:-0400
TZOFFSETTO:-0500
TZNAME:EST
DTSTART:20201101T060000
END:STANDARD
BEGIN:DAYLIGHT
TZOFFSETFROM:-0500
TZOFFSETTO:-0400
TZNAME:EDT
DTSTART:20210314T070000
END:DAYLIGHT
BEGIN:STANDARD
TZOFFSETFROM:-0400
TZOFFSETTO:-0500
TZNAME:EST
DTSTART:20211107T060000
END:STANDARD
BEGIN:DAYLIGHT
TZOFFSETFROM:-0500
TZOFFSETTO:-0400
TZNAME:EDT
DTSTART:20220313T070000
END:DAYLIGHT
BEGIN:STANDARD
TZOFFSETFROM:-0400
TZOFFSETTO:-0500
TZNAME:EST
DTSTART:20221106T060000
END:STANDARD
BEGIN:DAYLIGHT
TZOFFSETFROM:-0500
TZOFFSETTO:-0400
TZNAME:EDT
DTSTART:20230312T070000
END:DAYLIGHT
BEGIN:STANDARD
TZOFFSETFROM:-0400
TZOFFSETTO:-0500
TZNAME:EST
DTSTART:20231105T060000
END:STANDARD
BEGIN:DAYLIGHT
TZOFFSETFROM:-0500
TZOFFSETTO:-0400
TZNAME:EDT
DTSTART:20240310T070000
END:DAYLIGHT
BEGIN:STANDARD
TZOFFSETFROM:-0400
TZOFFSETTO:-0500
TZNAME:EST
DTSTART:20241103T060000
END:STANDARD
BEGIN:DAYLIGHT
TZOFFSETFROM:-0500
TZOFFSETTO:-0400
TZNAME:EDT
DTSTART:20250309T070000
END:DAYLIGHT
BEGIN:STANDARD
TZOFFSETFROM:-0400
TZOFFSETTO:-0500
TZNAME:EST
DTSTART:20251102T060000
END:STANDARD
BEGIN:DAYLIGHT
TZOFFSETFROM:-0500
TZOFFSETTO:-0400
TZNAME:EDT
DTSTART:20260308T070000
END:DAYLIGHT
BEGIN:STANDARD
TZOFFSETFROM:-0400
TZOFFSETTO:-0500
TZNAME:EST
DTSTART:20261101T060000
END:STANDARD
END:VTIMEZONE
BEGIN:VTIMEZONE
TZID:America/New_York
BEGIN:DAYLIGHT
TZOFFSETFROM:-0500
TZOFFSETTO:-0400
TZNAME:EDT
DTSTART:20160313T070000
END:DAYLIGHT
BEGIN:STANDARD
TZOFFSETFROM:-0400
TZOFFSETTO:-0500
TZNAME:EST
DTSTART:20161106T060000
END:STANDARD
BEGIN:DAYLIGHT
TZOFFSETFROM:-0500
TZOFFSETTO:-0400
TZNAME:EDT
DTSTART:20170312T070000
END:DAYLIGHT
BEGIN:STANDARD
TZOFFSETFROM:-0400
TZOFFSETTO:-0500
TZNAME:EST
DTSTART:20171105T060000
END:STANDARD
BEGIN:DAYLIGHT
TZOFFSETFROM:-0500
TZOFFSETTO:-0400
TZNAME:EDT
DTSTART:20180311T070000
END:DAYLIGHT
BEGIN:STANDARD
TZOFFSETFROM:-0400
TZOFFSETTO:-0500
TZNAME:EST
DTSTART:20181104T060000
END:STANDARD
END:VTIMEZONE
BEGIN:VEVENT
DTSTART;TZID=America/New_York:20251206T090000
DTEND;TZID=America/New_York:20251211T190000
DTSTAMP:20260421T152635
CREATED:20251205T145311Z
LAST-MODIFIED:20251212T124147Z
UID:23110-1765011600-1765479600@www.usgovbid.com
SUMMARY:Ocean Township(75 lots)
DESCRIPTION:Trucks\, Plows\, Miscellaneous Equipment \nAuction Closed \n See more
URL:https://www.usgovbid.com/auction/ocean-township-6/
LOCATION:Ocean Township\, Ocean Township\, NJ\, United States
CATEGORIES:New Jersey,Ocean Twp
ATTACH;FMTTYPE=image/jpeg:https://www.usgovbid.com/wp-content/uploads/2025/12/105_1.jpg
END:VEVENT
BEGIN:VEVENT
DTSTART;TZID=America/New_York:20241207T090000
DTEND;TZID=America/New_York:20241212T180000
DTSTAMP:20260421T152635
CREATED:20241204T143255Z
LAST-MODIFIED:20241213T130623Z
UID:21839-1733562000-1734026400@www.usgovbid.com
SUMMARY:Ocean Township(12 lots)
DESCRIPTION:Vehicles\, Equipment \nAuction Closed \n See more
URL:https://www.usgovbid.com/auction/ocean-township-5/
LOCATION:Ocean Township\, Ocean Township\, NJ\, United States
CATEGORIES:New Jersey,Ocean Twp
ATTACH;FMTTYPE=image/jpeg:https://www.usgovbid.com/wp-content/uploads/2024/12/111_1.jpg
END:VEVENT
BEGIN:VEVENT
DTSTART;TZID=America/New_York:20220430T090000
DTEND;TZID=America/New_York:20220505T190000
DTSTAMP:20260421T152635
CREATED:20220321T190924Z
LAST-MODIFIED:20220509T111824Z
UID:18484-1651309200-1651777200@www.usgovbid.com
SUMMARY:Ocean Township(21 lots)
DESCRIPTION:Vehicles\, Equipment\, Miscellaneous Items \nAuction Closed \n See more
URL:https://www.usgovbid.com/auction/ocean-township-4/
LOCATION:Ocean Township\, Ocean Township\, NJ\, United States
CATEGORIES:New Jersey,Ocean Twp
ATTACH;FMTTYPE=image/jpeg:https://www.usgovbid.com/wp-content/uploads/2022/03/12_1.jpg
END:VEVENT
BEGIN:VEVENT
DTSTART;TZID=America/New_York:20210619T090000
DTEND;TZID=America/New_York:20210624T180000
DTSTAMP:20260421T152635
CREATED:20210611T134743Z
LAST-MODIFIED:20210625T172812Z
UID:17712-1624093200-1624557600@www.usgovbid.com
SUMMARY:Ocean Township(37 lots)
DESCRIPTION:Vehicles\, Trucks\, Equipment\, Miscellaneous Items \nAuction Closed \n See more
URL:https://www.usgovbid.com/auction/ocean-township-3/
LOCATION:Ocean Township\, Ocean Township\, NJ\, United States
CATEGORIES:New Jersey,Ocean Twp
ATTACH;FMTTYPE=image/jpeg:https://www.usgovbid.com/wp-content/uploads/2021/06/115_2.jpg
END:VEVENT
BEGIN:VEVENT
DTSTART;TZID=America/New_York:20170114T090000
DTEND;TZID=America/New_York:20170118T190000
DTSTAMP:20260421T152635
CREATED:20170102T132130Z
LAST-MODIFIED:20170102T132130Z
UID:5600-1484384400-1484766000@www.usgovbid.com
SUMMARY:Township of Ocean (26 lots)
DESCRIPTION:Vehicles\, Trucks\, Heavy Equipment & Miscellaneous Items \nAuction Closed \n See more
URL:https://www.usgovbid.com/auction/township-of-ocean/
LOCATION:Township of Ocean\, Ocean\, NJ\, United States
CATEGORIES:New Jersey,Ocean Twp
ATTACH;FMTTYPE=image/jpeg:https://www.usgovbid.com/wp-content/uploads/2017/01/01-3.jpg
END:VEVENT
BEGIN:VEVENT
DTSTART;TZID=America/New_York:20150110T090000
DTEND;TZID=America/New_York:20150114T180000
DTSTAMP:20260421T152635
CREATED:20141222T185511Z
LAST-MODIFIED:20141222T185511Z
UID:3916-1420880400-1421258400@www.usgovbid.com
SUMMARY:Ocean Township
DESCRIPTION:Plows\, Lawn Equipment\, Generator \nAuction Closed \n See more
URL:https://www.usgovbid.com/auction/ocean-township-2/
LOCATION:Ocean Township\, Ocean Township\, NJ\, United States
CATEGORIES:New Jersey,Ocean Twp
ATTACH;FMTTYPE=image/jpeg:https://www.usgovbid.com/wp-content/uploads/2014/12/021.jpg
END:VEVENT
BEGIN:VEVENT
DTSTART;TZID=America/New_York:20141206T090000
DTEND;TZID=America/New_York:20141210T190000
DTSTAMP:20260421T152635
CREATED:20141111T180233Z
LAST-MODIFIED:20141111T180233Z
UID:3849-1417856400-1418238000@www.usgovbid.com
SUMMARY:Ocean Township
DESCRIPTION:Vehicles\, Miscellaneous Equipment \nAuction Closed \n See more
URL:https://www.usgovbid.com/auction/ocean-township/
LOCATION:Ocean Township\, Ocean Township\, NJ\, United States
CATEGORIES:New Jersey,Ocean Twp
ATTACH;FMTTYPE=image/jpeg:https://www.usgovbid.com/wp-content/uploads/2014/11/019.jpg
END:VEVENT
BEGIN:VEVENT
DTSTART;TZID=America/New_York:20110404T090000
DTEND;TZID=America/New_York:20110408T160000
DTSTAMP:20260421T152635
CREATED:20130607T122246Z
LAST-MODIFIED:20130607T122246Z
UID:1578-1301907600-1302278400@www.usgovbid.com
SUMMARY:Ocean Twp
DESCRIPTION:20+ Vehicles & Equipment
URL:https://www.usgovbid.com/auction/ocean-twp/
LOCATION:Ocean Twp\, Ocean\, NJ\, United States
CATEGORIES:New Jersey,Ocean Twp
ATTACH;FMTTYPE=image/jpeg:https://www.usgovbid.com/wp-content/uploads/2013/06/0139.jpg
END:VEVENT
END:VCALENDAR