BEGIN:VCALENDAR
VERSION:2.0
PRODID:-//USGovBid - ECPv6.15.17//NONSGML v1.0//EN
CALSCALE:GREGORIAN
METHOD:PUBLISH
X-WR-CALNAME:USGovBid
X-ORIGINAL-URL:https://www.usgovbid.com
X-WR-CALDESC:Events for USGovBid
REFRESH-INTERVAL;VALUE=DURATION:PT1H
X-Robots-Tag:noindex
X-PUBLISHED-TTL:PT1H
BEGIN:VTIMEZONE
TZID:America/New_York
BEGIN:DAYLIGHT
TZOFFSETFROM:-0500
TZOFFSETTO:-0400
TZNAME:EDT
DTSTART:20070311T070000
END:DAYLIGHT
BEGIN:STANDARD
TZOFFSETFROM:-0400
TZOFFSETTO:-0500
TZNAME:EST
DTSTART:20071104T060000
END:STANDARD
BEGIN:DAYLIGHT
TZOFFSETFROM:-0500
TZOFFSETTO:-0400
TZNAME:EDT
DTSTART:20080309T070000
END:DAYLIGHT
BEGIN:STANDARD
TZOFFSETFROM:-0400
TZOFFSETTO:-0500
TZNAME:EST
DTSTART:20081102T060000
END:STANDARD
BEGIN:DAYLIGHT
TZOFFSETFROM:-0500
TZOFFSETTO:-0400
TZNAME:EDT
DTSTART:20090308T070000
END:DAYLIGHT
BEGIN:STANDARD
TZOFFSETFROM:-0400
TZOFFSETTO:-0500
TZNAME:EST
DTSTART:20091101T060000
END:STANDARD
BEGIN:DAYLIGHT
TZOFFSETFROM:-0500
TZOFFSETTO:-0400
TZNAME:EDT
DTSTART:20100314T070000
END:DAYLIGHT
BEGIN:STANDARD
TZOFFSETFROM:-0400
TZOFFSETTO:-0500
TZNAME:EST
DTSTART:20101107T060000
END:STANDARD
BEGIN:DAYLIGHT
TZOFFSETFROM:-0500
TZOFFSETTO:-0400
TZNAME:EDT
DTSTART:20110313T070000
END:DAYLIGHT
BEGIN:STANDARD
TZOFFSETFROM:-0400
TZOFFSETTO:-0500
TZNAME:EST
DTSTART:20111106T060000
END:STANDARD
BEGIN:DAYLIGHT
TZOFFSETFROM:-0500
TZOFFSETTO:-0400
TZNAME:EDT
DTSTART:20120311T070000
END:DAYLIGHT
BEGIN:STANDARD
TZOFFSETFROM:-0400
TZOFFSETTO:-0500
TZNAME:EST
DTSTART:20121104T060000
END:STANDARD
BEGIN:DAYLIGHT
TZOFFSETFROM:-0500
TZOFFSETTO:-0400
TZNAME:EDT
DTSTART:20130310T070000
END:DAYLIGHT
BEGIN:STANDARD
TZOFFSETFROM:-0400
TZOFFSETTO:-0500
TZNAME:EST
DTSTART:20131103T060000
END:STANDARD
BEGIN:DAYLIGHT
TZOFFSETFROM:-0500
TZOFFSETTO:-0400
TZNAME:EDT
DTSTART:20140309T070000
END:DAYLIGHT
BEGIN:STANDARD
TZOFFSETFROM:-0400
TZOFFSETTO:-0500
TZNAME:EST
DTSTART:20141102T060000
END:STANDARD
BEGIN:DAYLIGHT
TZOFFSETFROM:-0500
TZOFFSETTO:-0400
TZNAME:EDT
DTSTART:20150308T070000
END:DAYLIGHT
BEGIN:STANDARD
TZOFFSETFROM:-0400
TZOFFSETTO:-0500
TZNAME:EST
DTSTART:20151101T060000
END:STANDARD
BEGIN:DAYLIGHT
TZOFFSETFROM:-0500
TZOFFSETTO:-0400
TZNAME:EDT
DTSTART:20160313T070000
END:DAYLIGHT
BEGIN:STANDARD
TZOFFSETFROM:-0400
TZOFFSETTO:-0500
TZNAME:EST
DTSTART:20161106T060000
END:STANDARD
BEGIN:DAYLIGHT
TZOFFSETFROM:-0500
TZOFFSETTO:-0400
TZNAME:EDT
DTSTART:20170312T070000
END:DAYLIGHT
BEGIN:STANDARD
TZOFFSETFROM:-0400
TZOFFSETTO:-0500
TZNAME:EST
DTSTART:20171105T060000
END:STANDARD
BEGIN:DAYLIGHT
TZOFFSETFROM:-0500
TZOFFSETTO:-0400
TZNAME:EDT
DTSTART:20180311T070000
END:DAYLIGHT
BEGIN:STANDARD
TZOFFSETFROM:-0400
TZOFFSETTO:-0500
TZNAME:EST
DTSTART:20181104T060000
END:STANDARD
BEGIN:DAYLIGHT
TZOFFSETFROM:-0500
TZOFFSETTO:-0400
TZNAME:EDT
DTSTART:20190310T070000
END:DAYLIGHT
BEGIN:STANDARD
TZOFFSETFROM:-0400
TZOFFSETTO:-0500
TZNAME:EST
DTSTART:20191103T060000
END:STANDARD
BEGIN:DAYLIGHT
TZOFFSETFROM:-0500
TZOFFSETTO:-0400
TZNAME:EDT
DTSTART:20200308T070000
END:DAYLIGHT
BEGIN:STANDARD
TZOFFSETFROM:-0400
TZOFFSETTO:-0500
TZNAME:EST
DTSTART:20201101T060000
END:STANDARD
BEGIN:DAYLIGHT
TZOFFSETFROM:-0500
TZOFFSETTO:-0400
TZNAME:EDT
DTSTART:20210314T070000
END:DAYLIGHT
BEGIN:STANDARD
TZOFFSETFROM:-0400
TZOFFSETTO:-0500
TZNAME:EST
DTSTART:20211107T060000
END:STANDARD
BEGIN:DAYLIGHT
TZOFFSETFROM:-0500
TZOFFSETTO:-0400
TZNAME:EDT
DTSTART:20220313T070000
END:DAYLIGHT
BEGIN:STANDARD
TZOFFSETFROM:-0400
TZOFFSETTO:-0500
TZNAME:EST
DTSTART:20221106T060000
END:STANDARD
BEGIN:DAYLIGHT
TZOFFSETFROM:-0500
TZOFFSETTO:-0400
TZNAME:EDT
DTSTART:20230312T070000
END:DAYLIGHT
BEGIN:STANDARD
TZOFFSETFROM:-0400
TZOFFSETTO:-0500
TZNAME:EST
DTSTART:20231105T060000
END:STANDARD
END:VTIMEZONE
BEGIN:VTIMEZONE
TZID:America/New_York
BEGIN:DAYLIGHT
TZOFFSETFROM:-0500
TZOFFSETTO:-0400
TZNAME:EDT
DTSTART:20150308T070000
END:DAYLIGHT
BEGIN:STANDARD
TZOFFSETFROM:-0400
TZOFFSETTO:-0500
TZNAME:EST
DTSTART:20151101T060000
END:STANDARD
BEGIN:DAYLIGHT
TZOFFSETFROM:-0500
TZOFFSETTO:-0400
TZNAME:EDT
DTSTART:20160313T070000
END:DAYLIGHT
BEGIN:STANDARD
TZOFFSETFROM:-0400
TZOFFSETTO:-0500
TZNAME:EST
DTSTART:20161106T060000
END:STANDARD
BEGIN:DAYLIGHT
TZOFFSETFROM:-0500
TZOFFSETTO:-0400
TZNAME:EDT
DTSTART:20170312T070000
END:DAYLIGHT
BEGIN:STANDARD
TZOFFSETFROM:-0400
TZOFFSETTO:-0500
TZNAME:EST
DTSTART:20171105T060000
END:STANDARD
BEGIN:DAYLIGHT
TZOFFSETFROM:-0500
TZOFFSETTO:-0400
TZNAME:EDT
DTSTART:20180311T070000
END:DAYLIGHT
BEGIN:STANDARD
TZOFFSETFROM:-0400
TZOFFSETTO:-0500
TZNAME:EST
DTSTART:20181104T060000
END:STANDARD
BEGIN:DAYLIGHT
TZOFFSETFROM:-0500
TZOFFSETTO:-0400
TZNAME:EDT
DTSTART:20190310T070000
END:DAYLIGHT
BEGIN:STANDARD
TZOFFSETFROM:-0400
TZOFFSETTO:-0500
TZNAME:EST
DTSTART:20191103T060000
END:STANDARD
END:VTIMEZONE
BEGIN:VEVENT
DTSTART;TZID=America/New_York:20220514T090000
DTEND;TZID=America/New_York:20220517T180000
DTSTAMP:20260425T074222
CREATED:20220408T184627Z
LAST-MODIFIED:20220518T131624Z
UID:18528-1652518800-1652810400@www.usgovbid.com
SUMMARY:Monmouth County(119 lots)
DESCRIPTION:Vehicles\, Trucks\, Mowers and Equipment \nAuction Closed \n See more
URL:https://www.usgovbid.com/auction/monmouth-county-16/
LOCATION:Monmouth County\, Freehold\, NJ\, United States
CATEGORIES:Monmouth County,New Jersey
ATTACH;FMTTYPE=image/jpeg:https://www.usgovbid.com/wp-content/uploads/2022/04/227_3.jpg
END:VEVENT
BEGIN:VEVENT
DTSTART;TZID=America/New_York:20211113T090000
DTEND;TZID=America/New_York:20211116T190000
DTSTAMP:20260425T074222
CREATED:20210929T190535Z
LAST-MODIFIED:20211117T141816Z
UID:18062-1636794000-1637089200@www.usgovbid.com
SUMMARY:Monmouth County(269 lots)
DESCRIPTION:Vehicles\, Trucks\, Equipment\, Miscellaneous Items \nAuction Closed \n See more
URL:https://www.usgovbid.com/auction/monmouth-county-15/
LOCATION:Monmouth County\, Freehold\, NJ\, United States
CATEGORIES:Monmouth County,New Jersey
ATTACH;FMTTYPE=image/jpeg:https://www.usgovbid.com/wp-content/uploads/2021/09/622_29.jpg
END:VEVENT
BEGIN:VEVENT
DTSTART;TZID=America/New_York:20201024T090000
DTEND;TZID=America/New_York:20201027T180000
DTSTAMP:20260425T074222
CREATED:20200928T182757Z
LAST-MODIFIED:20201028T150854Z
UID:16897-1603530000-1603821600@www.usgovbid.com
SUMMARY:Monmouth County Various Depts (120 lots)
DESCRIPTION:Vehicles\, Trucks\, Equipment \nAuction Closed \n See more
URL:https://www.usgovbid.com/auction/monmouth-county-14/
LOCATION:Monmouth County\, Freehold\, NJ\, United States
CATEGORIES:Monmouth County,New Jersey
ATTACH;FMTTYPE=image/jpeg:https://www.usgovbid.com/wp-content/uploads/2020/10/235_2.jpg
END:VEVENT
BEGIN:VEVENT
DTSTART;TZID=America/New_York:20191026T090000
DTEND;TZID=America/New_York:20191029T180000
DTSTAMP:20260425T074222
CREATED:20191018T131643Z
LAST-MODIFIED:20191030T144658Z
UID:16120-1572080400-1572372000@www.usgovbid.com
SUMMARY:Monmouth County(49 lots)
DESCRIPTION:Vehicles\, Trucks\, Heavy Equipment\, Miscellaneous Items \nAuction Closed \n See more
URL:https://www.usgovbid.com/auction/monmouth-county-13/
LOCATION:Monmouth County\, Freehold\, NJ\, United States
CATEGORIES:Monmouth County,New Jersey
ATTACH;FMTTYPE=image/jpeg:https://www.usgovbid.com/wp-content/uploads/2019/10/219_7.jpg
END:VEVENT
BEGIN:VEVENT
DTSTART;TZID=America/New_York:20190615T090000
DTEND;TZID=America/New_York:20190618T180000
DTSTAMP:20260425T074222
CREATED:20190604T171828Z
LAST-MODIFIED:20190619T111906Z
UID:15537-1560589200-1560880800@www.usgovbid.com
SUMMARY:Monmouth County Various Depts (180 lots)
DESCRIPTION:Vehicles\, Trucks\, Equipment \nAuction Closed \n See more
URL:https://www.usgovbid.com/auction/monmouth-county-various-departments-6/
LOCATION:Monmouth County Various Departments\, Freehold\, NJ\, United States
CATEGORIES:Monmouth County,New Jersey
ATTACH;FMTTYPE=image/jpeg:https://www.usgovbid.com/wp-content/uploads/2019/06/253_3.jpg
END:VEVENT
BEGIN:VEVENT
DTSTART;TZID=America/New_York:20181027T090000
DTEND;TZID=America/New_York:20181030T180000
DTSTAMP:20260425T074222
CREATED:20181001T184007Z
LAST-MODIFIED:20181001T184007Z
UID:8068-1540630800-1540922400@www.usgovbid.com
SUMMARY:Monmouth County (44 lots)
DESCRIPTION:Vehicles\, Trucks\, Equipment\, Mowers \nAuction Closed \n See more
URL:https://www.usgovbid.com/auction/monmouth-county-12/
LOCATION:Monmouth County\, Freehold\, NJ\, United States
CATEGORIES:Monmouth County,New Jersey
ATTACH;FMTTYPE=image/jpeg:https://www.usgovbid.com/wp-content/uploads/2018/10/220_3.jpg
END:VEVENT
BEGIN:VEVENT
DTSTART;TZID=America/New_York:20180616T090000
DTEND;TZID=America/New_York:20180619T180000
DTSTAMP:20260425T074222
CREATED:20180613T182516Z
LAST-MODIFIED:20180613T182516Z
UID:7613-1529139600-1529431200@www.usgovbid.com
SUMMARY:Monmouth County (174 lots)
DESCRIPTION:Vehicles\, Trucks\, Equipment\, Mowers and Misc Items \nAuction Closed \n See more
URL:https://www.usgovbid.com/auction/monmouth-county-11/
LOCATION:Monmouth County\, Freehold\, NJ\, United States
CATEGORIES:Monmouth County,New Jersey
ATTACH;FMTTYPE=image/jpeg:https://www.usgovbid.com/wp-content/uploads/2018/06/235_4.jpg
END:VEVENT
BEGIN:VEVENT
DTSTART;TZID=America/New_York:20171021T090000
DTEND;TZID=America/New_York:20171024T180000
DTSTAMP:20260425T074222
CREATED:20171006T105425Z
LAST-MODIFIED:20171006T105425Z
UID:6703-1508576400-1508868000@www.usgovbid.com
SUMMARY:Monmouth County (29 lots)
DESCRIPTION:Vehicles\, Trucks\, Equipment \nAuction Closed \n See more
URL:https://www.usgovbid.com/auction/monmouth-county-10/
LOCATION:Monmouth County\, Freehold\, NJ\, United States
CATEGORIES:Monmouth County,New Jersey
ATTACH;FMTTYPE=image/jpeg:https://www.usgovbid.com/wp-content/uploads/2017/10/220_5.jpg
END:VEVENT
BEGIN:VEVENT
DTSTART;TZID=America/New_York:20170610T090000
DTEND;TZID=America/New_York:20170613T180000
DTSTAMP:20260425T074222
CREATED:20170607T162637Z
LAST-MODIFIED:20170607T162637Z
UID:6116-1497085200-1497376800@www.usgovbid.com
SUMMARY:Monmouth Co Various (193 lots)
DESCRIPTION:Vehicles\, Trucks\, Equipment \nAuction Closed \n See more
URL:https://www.usgovbid.com/auction/monmouth-county-various-departments-5/
LOCATION:Monmouth County Various Departments\, Freehold\, NJ\, United States
CATEGORIES:Monmouth County,New Jersey
ATTACH;FMTTYPE=image/jpeg:https://www.usgovbid.com/wp-content/uploads/2017/06/01.jpg
END:VEVENT
BEGIN:VEVENT
DTSTART;TZID=America/New_York:20160616T150000
DTEND;TZID=America/New_York:20160620T180000
DTSTAMP:20260425T074222
CREATED:20160616T175623Z
LAST-MODIFIED:20160616T175623Z
UID:4907-1466089200-1466445600@www.usgovbid.com
SUMMARY:Monmouth County Various (1 lot)
DESCRIPTION:CAT Loader \nAuction Closed \n See more
URL:https://www.usgovbid.com/auction/monmouth-county-various/
LOCATION:Monmouth County\, Freehold\, NJ\, United States
CATEGORIES:Monmouth County,New Jersey
ATTACH;FMTTYPE=image/jpeg:https://www.usgovbid.com/wp-content/uploads/2016/05/01-13.jpg
END:VEVENT
BEGIN:VEVENT
DTSTART;TZID=America/New_York:20160611T090000
DTEND;TZID=America/New_York:20160614T180000
DTSTAMP:20260425T074222
CREATED:20160526T204116Z
LAST-MODIFIED:20160526T204116Z
UID:4880-1465635600-1465927200@www.usgovbid.com
SUMMARY:Monmouth County Various (81 lots)
DESCRIPTION:Vehicles\, Trucks\, Equipment \nAuction Closed \n See more
URL:https://www.usgovbid.com/auction/monmouth-county-various-departments-4/
LOCATION:Monmouth County Fleet Services\, Freehold\, NJ\, United States
CATEGORIES:Monmouth County,New Jersey
ATTACH;FMTTYPE=image/jpeg:https://www.usgovbid.com/wp-content/uploads/2016/05/01-13.jpg
END:VEVENT
BEGIN:VEVENT
DTSTART;TZID=America/New_York:20151017T090000
DTEND;TZID=America/New_York:20151020T180000
DTSTAMP:20260425T074222
CREATED:20151007T145135Z
LAST-MODIFIED:20151007T145135Z
UID:4355-1445072400-1445364000@www.usgovbid.com
SUMMARY:Monmouth County  (259 lots)
DESCRIPTION:Vehicles\, Trucks\, Office and Miscellaneous Equipment \nAuction Closed \n See more
URL:https://www.usgovbid.com/auction/monmouth-county-9/
LOCATION:Monmouth County\, Freehold\, NJ\, United States
CATEGORIES:Monmouth County,New Jersey
ATTACH;FMTTYPE=image/jpeg:https://www.usgovbid.com/wp-content/uploads/2015/10/012.jpg
END:VEVENT
BEGIN:VEVENT
DTSTART;TZID=America/New_York:20140517T090000
DTEND;TZID=America/New_York:20140617T180000
DTSTAMP:20260425T074222
CREATED:20140509T195603Z
LAST-MODIFIED:20140509T195603Z
UID:3450-1400317200-1403028000@www.usgovbid.com
SUMMARY:Monmouth County
DESCRIPTION:Bell B206B III Jet Ranger Helicopter \nAuction Closed \n See more
URL:https://www.usgovbid.com/auction/monmouth-county-8/
LOCATION:Monmouth County\, Tinton Falls\, NJ\, United States
CATEGORIES:Monmouth County,New Jersey
ATTACH;FMTTYPE=image/jpeg:https://www.usgovbid.com/wp-content/uploads/2014/04/02.jpg
END:VEVENT
BEGIN:VEVENT
DTSTART;TZID=America/New_York:20140517T090000
DTEND;TZID=America/New_York:20140521T180000
DTSTAMP:20260425T074222
CREATED:20140509T180708Z
LAST-MODIFIED:20140509T180708Z
UID:3444-1400317200-1400695200@www.usgovbid.com
SUMMARY:Monmouth Co Pros and Various Depts
DESCRIPTION:Vehicles\, Trucks\, Lawn Equip\, Office Equip \nAuction Closed \n See more
URL:https://www.usgovbid.com/auction/monmouth-co-pros-various-depts/
LOCATION:Monmouth Co Pros and Various Depts\, Freehold\, NJ\, United States
CATEGORIES:Monmouth County,Monmouth County Prosecutors,New Jersey
ATTACH;FMTTYPE=image/jpeg:https://www.usgovbid.com/wp-content/uploads/2014/05/016.jpg
END:VEVENT
BEGIN:VEVENT
DTSTART;TZID=America/New_York:20131019T090000
DTEND;TZID=America/New_York:20131023T180000
DTSTAMP:20260425T074222
CREATED:20131016T113646Z
LAST-MODIFIED:20131016T113646Z
UID:3144-1382173200-1382551200@www.usgovbid.com
SUMMARY:Monmouth Co Pros and Various Depts
DESCRIPTION:Vehicles\, Trucks\, Heavy Equipment\, and other Miscellaneous Items \nAuction Closed \n See more
URL:https://www.usgovbid.com/auction/monmouth-county-prosecutors-various-departments/
LOCATION:Monmouth County Prosecutors and Various Departments\, Freehold\, NJ\, United States
CATEGORIES:Monmouth County,Monmouth County Prosecutors,New Jersey
ATTACH;FMTTYPE=image/jpeg:https://www.usgovbid.com/wp-content/uploads/2013/10/017.jpg
END:VEVENT
BEGIN:VEVENT
DTSTART;TZID=America/New_York:20130615T090000
DTEND;TZID=America/New_York:20130619T180000
DTSTAMP:20260425T074222
CREATED:20130610T183525Z
LAST-MODIFIED:20130610T183525Z
UID:1736-1371286800-1371664800@www.usgovbid.com
SUMMARY:Monmouth County
DESCRIPTION:1 International Dump Truck \nAuction Closed
URL:https://www.usgovbid.com/auction/monmouth-county-2/
LOCATION:Monmouth County\, Freehold\, NJ\, United States
CATEGORIES:Monmouth County,New Jersey
ATTACH;FMTTYPE=image/jpeg:https://www.usgovbid.com/wp-content/uploads/2013/06/0160.jpg
END:VEVENT
BEGIN:VEVENT
DTSTART;TZID=America/New_York:20130504T090000
DTEND;TZID=America/New_York:20130508T180000
DTSTAMP:20260425T074222
CREATED:20130430T114213Z
LAST-MODIFIED:20130430T114213Z
UID:1228-1367658000-1368036000@www.usgovbid.com
SUMMARY:Monmouth County
DESCRIPTION:Confiscated Vehicles\, Trucks\, Equipment and Office Equipment \nAuction Closed
URL:https://www.usgovbid.com/auction/monmouth-county/
LOCATION:Monmouth County\, Freehold\, NJ\, United States
CATEGORIES:Monmouth County,New Jersey
ATTACH;FMTTYPE=image/jpeg:https://www.usgovbid.com/wp-content/uploads/2013/05/011.jpg
END:VEVENT
BEGIN:VEVENT
DTSTART;TZID=America/New_York:20121013T090000
DTEND;TZID=America/New_York:20121017T180000
DTSTAMP:20260425T074222
CREATED:20130228T131314Z
LAST-MODIFIED:20130228T131314Z
UID:312-1350118800-1350496800@www.usgovbid.com
SUMMARY:Monmouth County Various Depts
DESCRIPTION:Vehicles\, Trucks\, Lawn Equipment
URL:https://www.usgovbid.com/auction/monmouth-county-various-depts/
LOCATION:Monmouth County Various Depts\, Freehold\, NJ\, United States
CATEGORIES:Monmouth County,New Jersey
ATTACH;FMTTYPE=image/jpeg:https://www.usgovbid.com/wp-content/uploads/2013/02/023.jpg
END:VEVENT
BEGIN:VEVENT
DTSTART;TZID=America/New_York:20120512T090000
DTEND;TZID=America/New_York:20120516T180000
DTSTAMP:20260425T074222
CREATED:20130316T185459Z
LAST-MODIFIED:20130316T185459Z
UID:708-1336813200-1337191200@www.usgovbid.com
SUMMARY:Monmouth County Various Depts
DESCRIPTION:97 lots Vehicles and Equipment
URL:https://www.usgovbid.com/auction/monmouth-county-various-depts-2/
LOCATION:Monmouth County Various Depts\, Freehold\, NJ\, United States
CATEGORIES:Monmouth County,New Jersey
ATTACH;FMTTYPE=image/jpeg:https://www.usgovbid.com/wp-content/uploads/2013/03/0145.jpg
END:VEVENT
BEGIN:VEVENT
DTSTART;TZID=America/New_York:20111015T090000
DTEND;TZID=America/New_York:20111019T180000
DTSTAMP:20260425T074222
CREATED:20130318T192356Z
LAST-MODIFIED:20130318T192356Z
UID:989-1318669200-1319047200@www.usgovbid.com
SUMMARY:Monmouth County Various Depts
DESCRIPTION:Vehicles & Equipment
URL:https://www.usgovbid.com/auction/monmouth-county-various-depts-3/
LOCATION:Monmouth County Various Depts\, Freehold\, NJ\, United States
CATEGORIES:Monmouth County,New Jersey
ATTACH;FMTTYPE=image/jpeg:https://www.usgovbid.com/wp-content/uploads/2013/03/034.jpg
END:VEVENT
BEGIN:VEVENT
DTSTART;TZID=America/New_York:20110514T090000
DTEND;TZID=America/New_York:20110518T180000
DTSTAMP:20260425T074222
CREATED:20130607T120619Z
LAST-MODIFIED:20130607T120619Z
UID:1541-1305363600-1305741600@www.usgovbid.com
SUMMARY:Monmouth County Various Departments
DESCRIPTION:36 Vehicles & Equipment
URL:https://www.usgovbid.com/auction/monmouth-county-various-departments/
LOCATION:Monmouth County Various Depts\, Monmouth County\, NJ\, United States
CATEGORIES:Monmouth County,New Jersey
ATTACH;FMTTYPE=image/jpeg:https://www.usgovbid.com/wp-content/uploads/2013/06/0131.jpg
END:VEVENT
BEGIN:VEVENT
DTSTART;TZID=America/New_York:20101016T090000
DTEND;TZID=America/New_York:20101020T180000
DTSTAMP:20260425T074222
CREATED:20130611T134202Z
LAST-MODIFIED:20130611T134202Z
UID:1799-1287219600-1287597600@www.usgovbid.com
SUMMARY:Monmouth County Various Departments
DESCRIPTION:
URL:https://www.usgovbid.com/auction/monmouth-county-various-departments-2/
LOCATION:Monmouth County Various Depts\, Freehold\, NJ\, United States
CATEGORIES:Monmouth County,New Jersey
ATTACH;FMTTYPE=image/jpeg:https://www.usgovbid.com/wp-content/uploads/2013/06/208_3.jpg
END:VEVENT
BEGIN:VEVENT
DTSTART;TZID=America/New_York:20100508T090000
DTEND;TZID=America/New_York:20100519T180000
DTSTAMP:20260425T074222
CREATED:20130613T130947Z
LAST-MODIFIED:20130613T130947Z
UID:2041-1273309200-1274292000@www.usgovbid.com
SUMMARY:Monmouth County
DESCRIPTION:9 lots of Heavy Equipment\, Loaders\, Excavators\, Backhoes\, Hauler & Dumps
URL:https://www.usgovbid.com/auction/monmouth-county-3/
LOCATION:Monmouth County\, Freehold\, NJ\, United States
CATEGORIES:Monmouth County,New Jersey
ATTACH;FMTTYPE=image/jpeg:https://www.usgovbid.com/wp-content/uploads/2013/06/0220.jpg
END:VEVENT
BEGIN:VEVENT
DTSTART;TZID=America/New_York:20100508T090000
DTEND;TZID=America/New_York:20100512T180000
DTSTAMP:20260425T074222
CREATED:20130613T131548Z
LAST-MODIFIED:20130613T131548Z
UID:2049-1273309200-1273687200@www.usgovbid.com
SUMMARY:Monmouth County - Various Departments
DESCRIPTION:50 Vehicles\, 27 lots of Equipment\, 3 Marine Items and 46 lots of Misc
URL:https://www.usgovbid.com/auction/monmouth-county-various-departments-3/
LOCATION:Monmouth County Various Depts\, Freehold\, NJ\, United States
CATEGORIES:Monmouth County,New Jersey
ATTACH;FMTTYPE=image/jpeg:https://www.usgovbid.com/wp-content/uploads/2013/06/01106.jpg
END:VEVENT
BEGIN:VEVENT
DTSTART;TZID=America/New_York:20091024T090000
DTEND;TZID=America/New_York:20091028T180000
DTSTAMP:20260425T074222
CREATED:20130624T123539Z
LAST-MODIFIED:20130624T123539Z
UID:2281-1256374800-1256752800@www.usgovbid.com
SUMMARY:Monmouth County
DESCRIPTION:31 Vehicles & 25 lots Equipment
URL:https://www.usgovbid.com/auction/monmouth-county-4/
LOCATION:Monmouth County\, Freehold\, NJ\, United States
CATEGORIES:Monmouth County,New Jersey
ATTACH;FMTTYPE=image/jpeg:https://www.usgovbid.com/wp-content/uploads/2013/06/01146.jpg
END:VEVENT
BEGIN:VEVENT
DTSTART;TZID=America/New_York:20090606T090000
DTEND;TZID=America/New_York:20090610T180000
DTSTAMP:20260425T074222
CREATED:20130709T134631Z
LAST-MODIFIED:20130709T134631Z
UID:2536-1244278800-1244656800@www.usgovbid.com
SUMMARY:Monmouth County
DESCRIPTION:63 Vehicles & 120 lots of Equipment
URL:https://www.usgovbid.com/auction/monmouth-county-5/
LOCATION:Monmouth County\, Freehold\, NJ\, United States
CATEGORIES:Monmouth County,New Jersey
END:VEVENT
BEGIN:VEVENT
DTSTART;TZID=America/New_York:20081011T090000
DTEND;TZID=America/New_York:20081015T190000
DTSTAMP:20260425T074222
CREATED:20130730T115117Z
LAST-MODIFIED:20130730T115117Z
UID:2861-1223715600-1224097200@www.usgovbid.com
SUMMARY:Monmouth County
DESCRIPTION:4 lots Vehicles & Equipment
URL:https://www.usgovbid.com/auction/monmouth-county-6/
LOCATION:Monmouth County\, Freehold\, NJ\, United States
CATEGORIES:Monmouth County,New Jersey
ATTACH;FMTTYPE=image/jpeg:https://www.usgovbid.com/wp-content/uploads/2013/07/0219.jpg
END:VEVENT
BEGIN:VEVENT
DTSTART;TZID=America/New_York:20080920T090000
DTEND;TZID=America/New_York:20080924T200000
DTSTAMP:20260425T074222
CREATED:20130730T121817Z
LAST-MODIFIED:20130730T121817Z
UID:2900-1221901200-1222286400@www.usgovbid.com
SUMMARY:Monmouth County
DESCRIPTION:110+ Vehicles & Equipment
URL:https://www.usgovbid.com/auction/monmouth-county-7/
LOCATION:Monmouth County\, Freehold\, NJ\, United States
CATEGORIES:Monmouth County,New Jersey
ATTACH;FMTTYPE=image/jpeg:https://www.usgovbid.com/wp-content/uploads/2013/07/0178.jpg
END:VEVENT
END:VCALENDAR