BEGIN:VCALENDAR
VERSION:2.0
PRODID:-//USGovBid - ECPv6.15.17//NONSGML v1.0//EN
CALSCALE:GREGORIAN
METHOD:PUBLISH
X-ORIGINAL-URL:https://www.usgovbid.com
X-WR-CALDESC:Events for USGovBid
REFRESH-INTERVAL;VALUE=DURATION:PT1H
X-Robots-Tag:noindex
X-PUBLISHED-TTL:PT1H
BEGIN:VTIMEZONE
TZID:America/New_York
BEGIN:DAYLIGHT
TZOFFSETFROM:-0500
TZOFFSETTO:-0400
TZNAME:EDT
DTSTART:20250309T070000
END:DAYLIGHT
BEGIN:STANDARD
TZOFFSETFROM:-0400
TZOFFSETTO:-0500
TZNAME:EST
DTSTART:20251102T060000
END:STANDARD
BEGIN:DAYLIGHT
TZOFFSETFROM:-0500
TZOFFSETTO:-0400
TZNAME:EDT
DTSTART:20260308T070000
END:DAYLIGHT
BEGIN:STANDARD
TZOFFSETFROM:-0400
TZOFFSETTO:-0500
TZNAME:EST
DTSTART:20261101T060000
END:STANDARD
BEGIN:DAYLIGHT
TZOFFSETFROM:-0500
TZOFFSETTO:-0400
TZNAME:EDT
DTSTART:20270314T070000
END:DAYLIGHT
BEGIN:STANDARD
TZOFFSETFROM:-0400
TZOFFSETTO:-0500
TZNAME:EST
DTSTART:20271107T060000
END:STANDARD
END:VTIMEZONE
BEGIN:VEVENT
DTSTART;TZID=America/New_York:20260518T120000
DTEND;TZID=America/New_York:20260602T183000
DTSTAMP:20260424T113550
CREATED:20260421T175524Z
LAST-MODIFIED:20260421T201256Z
UID:23412-1779105600-1780425000@www.usgovbid.com
SUMMARY:NJSC Online Facility(150 lots)
DESCRIPTION:Heavy Equipment\, Vehicles\, Trucks\, and More
URL:https://www.usgovbid.com/auction/njsc-online-facility80-lots/
LOCATION:NJSC Online Facility\, Jackson\, NJ\, United States
CATEGORIES:New Jersey,NJSC
ATTACH;FMTTYPE=image/jpeg:https://www.usgovbid.com/wp-content/uploads/2026/04/img_5975.jpg
END:VEVENT
BEGIN:VEVENT
DTSTART;TZID=America/New_York:20260526T090000
DTEND;TZID=America/New_York:20260602T180000
DTSTAMP:20260424T113550
CREATED:20260410T171336Z
LAST-MODIFIED:20260410T173615Z
UID:23384-1779786000-1780423200@www.usgovbid.com
SUMMARY:Union County(75 lots)
DESCRIPTION:Vehicles\, Trucks\, Equipment
URL:https://www.usgovbid.com/auction/union-county-20/
LOCATION:Union County\, Springfield\, NJ\, United States
CATEGORIES:New Jersey,Union County
ATTACH;FMTTYPE=image/jpeg:https://www.usgovbid.com/wp-content/uploads/2019/07/blocks2019-union-county.jpg
END:VEVENT
END:VCALENDAR