BEGIN:VCALENDAR
VERSION:2.0
PRODID:-//USGovBid - ECPv6.15.17//NONSGML v1.0//EN
CALSCALE:GREGORIAN
METHOD:PUBLISH
X-ORIGINAL-URL:https://www.usgovbid.com
X-WR-CALDESC:Events for USGovBid
REFRESH-INTERVAL;VALUE=DURATION:PT1H
X-Robots-Tag:noindex
X-PUBLISHED-TTL:PT1H
BEGIN:VTIMEZONE
TZID:America/New_York
BEGIN:DAYLIGHT
TZOFFSETFROM:-0500
TZOFFSETTO:-0400
TZNAME:EDT
DTSTART:20220313T070000
END:DAYLIGHT
BEGIN:STANDARD
TZOFFSETFROM:-0400
TZOFFSETTO:-0500
TZNAME:EST
DTSTART:20221106T060000
END:STANDARD
BEGIN:DAYLIGHT
TZOFFSETFROM:-0500
TZOFFSETTO:-0400
TZNAME:EDT
DTSTART:20230312T070000
END:DAYLIGHT
BEGIN:STANDARD
TZOFFSETFROM:-0400
TZOFFSETTO:-0500
TZNAME:EST
DTSTART:20231105T060000
END:STANDARD
BEGIN:DAYLIGHT
TZOFFSETFROM:-0500
TZOFFSETTO:-0400
TZNAME:EDT
DTSTART:20240310T070000
END:DAYLIGHT
BEGIN:STANDARD
TZOFFSETFROM:-0400
TZOFFSETTO:-0500
TZNAME:EST
DTSTART:20241103T060000
END:STANDARD
BEGIN:DAYLIGHT
TZOFFSETFROM:-0500
TZOFFSETTO:-0400
TZNAME:EDT
DTSTART:20250309T070000
END:DAYLIGHT
BEGIN:STANDARD
TZOFFSETFROM:-0400
TZOFFSETTO:-0500
TZNAME:EST
DTSTART:20251102T060000
END:STANDARD
END:VTIMEZONE
BEGIN:VEVENT
DTSTART;TZID=America/New_York:20231215T120000
DTEND;TZID=America/New_York:20240215T183000
DTSTAMP:20260420T102922
CREATED:20231213T194236Z
LAST-MODIFIED:20240216T142624Z
UID:20693-1702641600-1708021800@www.usgovbid.com
SUMMARY:Vision Solar Bank Owned(9 lots)
DESCRIPTION:Late Model Trucks and Vans \nAuction Closed \n See more
URL:https://www.usgovbid.com/auction/vision-solar-bank-owned/
LOCATION:Vision Solar Bank Owned\, Jackson\, NJ\, United States
CATEGORIES:New Jersey,Vision Solar Bank Owned
ATTACH;FMTTYPE=image/jpeg:https://www.usgovbid.com/wp-content/uploads/2023/12/02.jpg
END:VEVENT
BEGIN:VEVENT
DTSTART;TZID=America/New_York:20231216T090000
DTEND;TZID=America/New_York:20231227T190000
DTSTAMP:20260420T102922
CREATED:20231120T203402Z
LAST-MODIFIED:20231228T152643Z
UID:20641-1702717200-1703703600@www.usgovbid.com
SUMMARY:Mercer County Prosecutors(16 lots)
DESCRIPTION:Vehicles \nAuction Closed \n See more
URL:https://www.usgovbid.com/auction/mercer-county-prosecutors-office-2/
LOCATION:Mercer County Prosecutors Office\, Hamilton\, NJ\, United States
CATEGORIES:Mercer County Prosecutors,New Jersey
ATTACH;FMTTYPE=image/jpeg:https://www.usgovbid.com/wp-content/uploads/2023/11/102_1.jpg
END:VEVENT
END:VCALENDAR