BEGIN:VCALENDAR
VERSION:2.0
PRODID:-//USGovBid - ECPv6.15.17//NONSGML v1.0//EN
CALSCALE:GREGORIAN
METHOD:PUBLISH
X-ORIGINAL-URL:https://www.usgovbid.com
X-WR-CALDESC:Events for USGovBid
REFRESH-INTERVAL;VALUE=DURATION:PT1H
X-Robots-Tag:noindex
X-PUBLISHED-TTL:PT1H
BEGIN:VTIMEZONE
TZID:America/New_York
BEGIN:DAYLIGHT
TZOFFSETFROM:-0500
TZOFFSETTO:-0400
TZNAME:EDT
DTSTART:20070311T070000
END:DAYLIGHT
BEGIN:STANDARD
TZOFFSETFROM:-0400
TZOFFSETTO:-0500
TZNAME:EST
DTSTART:20071104T060000
END:STANDARD
BEGIN:DAYLIGHT
TZOFFSETFROM:-0500
TZOFFSETTO:-0400
TZNAME:EDT
DTSTART:20080309T070000
END:DAYLIGHT
BEGIN:STANDARD
TZOFFSETFROM:-0400
TZOFFSETTO:-0500
TZNAME:EST
DTSTART:20081102T060000
END:STANDARD
BEGIN:DAYLIGHT
TZOFFSETFROM:-0500
TZOFFSETTO:-0400
TZNAME:EDT
DTSTART:20090308T070000
END:DAYLIGHT
BEGIN:STANDARD
TZOFFSETFROM:-0400
TZOFFSETTO:-0500
TZNAME:EST
DTSTART:20091101T060000
END:STANDARD
END:VTIMEZONE
BEGIN:VEVENT
DTSTART;TZID=America/New_York:20080927T090000
DTEND;TZID=America/New_York:20081001T200000
DTSTAMP:20260424T041804
CREATED:20130730T121629Z
LAST-MODIFIED:20130730T121629Z
UID:2896-1222506000-1222891200@www.usgovbid.com
SUMMARY:Ocean County
DESCRIPTION:30+ Vehicles
URL:https://www.usgovbid.com/auction/ocean-county-9/
LOCATION:Ocean County\, Toms River\, NJ\, United States
CATEGORIES:New Jersey,Ocean County
ATTACH;FMTTYPE=image/jpeg:https://www.usgovbid.com/wp-content/uploads/2013/07/0177.jpg
END:VEVENT
BEGIN:VEVENT
DTSTART;TZID=America/New_York:20080929T080000
DTEND;TZID=America/New_York:20081005T170000
DTSTAMP:20260424T041804
CREATED:20130730T120121Z
LAST-MODIFIED:20130730T120121Z
UID:2873-1222675200-1223226000@www.usgovbid.com
SUMMARY:Middlesex County
DESCRIPTION:100+ Vehicles & Equipment
URL:https://www.usgovbid.com/auction/middlesex-county-5/
LOCATION:Middlesex County\, North Brunswick\, NJ\, United States
CATEGORIES:Middlesex County,New Jersey
ATTACH;FMTTYPE=image/jpeg:https://www.usgovbid.com/wp-content/uploads/2013/07/23_2.jpg
END:VEVENT
BEGIN:VEVENT
DTSTART;TZID=America/New_York:20080929T090000
DTEND;TZID=America/New_York:20081005T190000
DTSTAMP:20260424T041804
CREATED:20130730T120757Z
LAST-MODIFIED:20130730T120757Z
UID:2883-1222678800-1223233200@www.usgovbid.com
SUMMARY:Middlesex Highway and Bridges
DESCRIPTION:31 lots Heavy Equipment
URL:https://www.usgovbid.com/auction/middlesex-highway-and-bridges/
LOCATION:Middlesex Highway and Bridges\, North Brunswick\, NJ\, United States
CATEGORIES:Middlesex Highway and Bridges,New Jersey
ATTACH;FMTTYPE=image/jpeg:https://www.usgovbid.com/wp-content/uploads/2013/07/0174.jpg
END:VEVENT
BEGIN:VEVENT
DTSTART;TZID=America/New_York:20080929T090000
DTEND;TZID=America/New_York:20081005T200000
DTSTAMP:20260424T041804
CREATED:20130730T121128Z
LAST-MODIFIED:20130730T121128Z
UID:2887-1222678800-1223236800@www.usgovbid.com
SUMMARY:North Brunswick
DESCRIPTION:25+ Vehicles
URL:https://www.usgovbid.com/auction/north-brunswick-3/
LOCATION:North Brunswick\, North Brunswick\, NJ\, United States
CATEGORIES:New Jersey,Township of North Brunswick
ATTACH;FMTTYPE=image/jpeg:https://www.usgovbid.com/wp-content/uploads/2013/07/0175.jpg
END:VEVENT
BEGIN:VEVENT
DTSTART;TZID=America/New_York:20080929T090000
DTEND;TZID=America/New_York:20081005T210000
DTSTAMP:20260424T041804
CREATED:20130730T120341Z
LAST-MODIFIED:20130730T120341Z
UID:2878-1222678800-1223240400@www.usgovbid.com
SUMMARY:Middlesex County
DESCRIPTION:130+ Computers & Office Equip
URL:https://www.usgovbid.com/auction/middlesex-county-6/
LOCATION:Middlesex County\, Edison\, NJ\, United States
CATEGORIES:Middlesex County,New Jersey
ATTACH;FMTTYPE=image/jpeg:https://www.usgovbid.com/wp-content/uploads/2013/07/0173.jpg
END:VEVENT
BEGIN:VEVENT
DTSTART;TZID=America/New_York:20081011T090000
DTEND;TZID=America/New_York:20081015T190000
DTSTAMP:20260424T041804
CREATED:20130730T115117Z
LAST-MODIFIED:20130730T115117Z
UID:2861-1223715600-1224097200@www.usgovbid.com
SUMMARY:Monmouth County
DESCRIPTION:4 lots Vehicles & Equipment
URL:https://www.usgovbid.com/auction/monmouth-county-6/
LOCATION:Monmouth County\, Freehold\, NJ\, United States
CATEGORIES:Monmouth County,New Jersey
ATTACH;FMTTYPE=image/jpeg:https://www.usgovbid.com/wp-content/uploads/2013/07/0219.jpg
END:VEVENT
BEGIN:VEVENT
DTSTART;TZID=America/New_York:20081011T090000
DTEND;TZID=America/New_York:20081015T200000
DTSTAMP:20260424T041804
CREATED:20130730T115306Z
LAST-MODIFIED:20130730T115306Z
UID:2865-1223715600-1224100800@www.usgovbid.com
SUMMARY:Atlantic County
DESCRIPTION:90+ Cars\, Buses & Dump Trucks
URL:https://www.usgovbid.com/auction/atlantic-county-4/
LOCATION:Atlantic County\, Northfield\, NJ\, United States
CATEGORIES:Atlantic County,New Jersey
ATTACH;FMTTYPE=image/jpeg:https://www.usgovbid.com/wp-content/uploads/2013/07/0171.jpg
END:VEVENT
BEGIN:VEVENT
DTSTART;TZID=America/New_York:20081011T100000
DTEND;TZID=America/New_York:20081011T170000
DTSTAMP:20260424T041804
CREATED:20130730T115508Z
LAST-MODIFIED:20130730T115508Z
UID:2869-1223719200-1223744400@www.usgovbid.com
SUMMARY:South Brunswick
DESCRIPTION:Live Auction – 25+ Vehicles & Equipment
URL:https://www.usgovbid.com/auction/south-brunswick/
LOCATION:South Brunswick Township\, South Brunswick\, NJ\, United States
CATEGORIES:New Jersey,South Brunswick Township
ATTACH;FMTTYPE=image/jpeg:https://www.usgovbid.com/wp-content/uploads/2013/07/0172.jpg
END:VEVENT
BEGIN:VEVENT
DTSTART;TZID=America/New_York:20081018T090000
DTEND;TZID=America/New_York:20081022T200000
DTSTAMP:20260424T041804
CREATED:20130730T114708Z
LAST-MODIFIED:20130730T114708Z
UID:2853-1224320400-1224705600@www.usgovbid.com
SUMMARY:Atlantic County
DESCRIPTION:35+ Computers\, Cameras\, Etc.
URL:https://www.usgovbid.com/auction/atlantic-county-3/
LOCATION:Atlantic County\, Atlantic County\, NJ\, United States
CATEGORIES:Atlantic County,New Jersey
ATTACH;FMTTYPE=image/jpeg:https://www.usgovbid.com/wp-content/uploads/2013/07/0170.jpg
END:VEVENT
BEGIN:VEVENT
DTSTART;TZID=America/New_York:20081018T100000
DTEND;TZID=America/New_York:20081018T170000
DTSTAMP:20260424T041804
CREATED:20130730T114914Z
LAST-MODIFIED:20130730T114914Z
UID:2857-1224324000-1224349200@www.usgovbid.com
SUMMARY:Sparta Township
DESCRIPTION:Live Auction – Vehicles & Equipment
URL:https://www.usgovbid.com/auction/sparta-township-4/
LOCATION:Sparta Township\, Sparta\, NJ\, United States
CATEGORIES:New Jersey,Sparta Township
ATTACH;FMTTYPE=image/jpeg:https://www.usgovbid.com/wp-content/uploads/2013/07/16.jpg
END:VEVENT
BEGIN:VEVENT
DTSTART;TZID=America/New_York:20081025T090000
DTEND;TZID=America/New_York:20081029T200000
DTSTAMP:20260424T041804
CREATED:20130730T114039Z
LAST-MODIFIED:20130730T114039Z
UID:2841-1224925200-1225310400@www.usgovbid.com
SUMMARY:Atlantic County
DESCRIPTION:31 lots Office Equipment
URL:https://www.usgovbid.com/auction/atlantic-county-2/
LOCATION:Atlantic County\, Atlantic County\, NJ\, United States
CATEGORIES:Atlantic County,New Jersey
ATTACH;FMTTYPE=image/jpeg:https://www.usgovbid.com/wp-content/uploads/2013/07/0168.jpg
END:VEVENT
END:VCALENDAR