BEGIN:VCALENDAR
VERSION:2.0
PRODID:-//USGovBid - ECPv6.15.17//NONSGML v1.0//EN
CALSCALE:GREGORIAN
METHOD:PUBLISH
X-ORIGINAL-URL:https://www.usgovbid.com
X-WR-CALDESC:Events for USGovBid
REFRESH-INTERVAL;VALUE=DURATION:PT1H
X-Robots-Tag:noindex
X-PUBLISHED-TTL:PT1H
BEGIN:VTIMEZONE
TZID:America/New_York
BEGIN:DAYLIGHT
TZOFFSETFROM:-0500
TZOFFSETTO:-0400
TZNAME:EDT
DTSTART:20240310T070000
END:DAYLIGHT
BEGIN:STANDARD
TZOFFSETFROM:-0400
TZOFFSETTO:-0500
TZNAME:EST
DTSTART:20241103T060000
END:STANDARD
BEGIN:DAYLIGHT
TZOFFSETFROM:-0500
TZOFFSETTO:-0400
TZNAME:EDT
DTSTART:20250309T070000
END:DAYLIGHT
BEGIN:STANDARD
TZOFFSETFROM:-0400
TZOFFSETTO:-0500
TZNAME:EST
DTSTART:20251102T060000
END:STANDARD
BEGIN:DAYLIGHT
TZOFFSETFROM:-0500
TZOFFSETTO:-0400
TZNAME:EDT
DTSTART:20260308T070000
END:DAYLIGHT
BEGIN:STANDARD
TZOFFSETFROM:-0400
TZOFFSETTO:-0500
TZNAME:EST
DTSTART:20261101T060000
END:STANDARD
END:VTIMEZONE
BEGIN:VEVENT
DTSTART;TZID=America/New_York:20250719T090000
DTEND;TZID=America/New_York:20250722T190000
DTSTAMP:20260425T093024
CREATED:20250717T200034Z
LAST-MODIFIED:20250723T154333Z
UID:22471-1752915600-1753210800@www.usgovbid.com
SUMMARY:Wayne Township Public Schools (6 lots)
DESCRIPTION:Buses \nAuction Closed \n See more
URL:https://www.usgovbid.com/auction/wayne-township-public-schools-7/
LOCATION:Wayne Township Public Schools\, Wayne\, NJ\, United States
CATEGORIES:New Jersey,Wayne Township Public Schools
ATTACH;FMTTYPE=image/jpeg:https://www.usgovbid.com/wp-content/uploads/2025/07/50_1.jpg
END:VEVENT
END:VCALENDAR